BEGIN:VCALENDAR
VERSION:2.0
PRODID:-//Aleph, Savoirs &amp; Clinique - Lille - ECPv6.15.20//NONSGML v1.0//EN
CALSCALE:GREGORIAN
METHOD:PUBLISH
X-WR-CALNAME:Aleph, Savoirs &amp; Clinique - Lille
X-ORIGINAL-URL:https://www.aleph-savoirs-et-clinique.org
X-WR-CALDESC:Évènements pour Aleph, Savoirs &amp; Clinique - Lille
REFRESH-INTERVAL;VALUE=DURATION:PT1H
X-Robots-Tag:noindex
X-PUBLISHED-TTL:PT1H
BEGIN:VTIMEZONE
TZID:Europe/Helsinki
BEGIN:DAYLIGHT
TZOFFSETFROM:+0200
TZOFFSETTO:+0300
TZNAME:EEST
DTSTART:20250330T010000
END:DAYLIGHT
BEGIN:STANDARD
TZOFFSETFROM:+0300
TZOFFSETTO:+0200
TZNAME:EET
DTSTART:20251026T010000
END:STANDARD
BEGIN:DAYLIGHT
TZOFFSETFROM:+0200
TZOFFSETTO:+0300
TZNAME:EEST
DTSTART:20260329T010000
END:DAYLIGHT
BEGIN:STANDARD
TZOFFSETFROM:+0300
TZOFFSETTO:+0200
TZNAME:EET
DTSTART:20261025T010000
END:STANDARD
BEGIN:DAYLIGHT
TZOFFSETFROM:+0200
TZOFFSETTO:+0300
TZNAME:EEST
DTSTART:20270328T010000
END:DAYLIGHT
BEGIN:STANDARD
TZOFFSETFROM:+0300
TZOFFSETTO:+0200
TZNAME:EET
DTSTART:20271031T010000
END:STANDARD
END:VTIMEZONE
BEGIN:VEVENT
DTSTART;TZID=Europe/Helsinki:20260323T100000
DTEND;TZID=Europe/Helsinki:20260323T120000
DTSTAMP:20260425T232412
CREATED:20240728T203505Z
LAST-MODIFIED:20250716T070908Z
UID:10000569-1774260000-1774267200@www.aleph-savoirs-et-clinique.org
SUMMARY:Présentation clinique II et atelier II "clinique de l'adolescent"
DESCRIPTION:IMPRO Le Saulchoir\, Kain\, Belgique \nDans le service de Monsieur Huon\, du Dr Geneviève Loison et du Dr Emmanuel Thill \nPrésentation clinique d’adolescents \nAtelier et présentation animés par Isabelle Baldet\, Jean-Claude Duhamel\, Hélène Coesnon\, Antoine Verstraet \nPourquoi s’entretenir avec un enfant ou un adolescent au sein d’une présentation clinique ?  \nParce que le caractère unique de cet échange permet une parole originale et structurante. Il se déroule en effet avec un(e) analyste extérieur(e) à l’institution que le jeune ne connaît pas à l’avance\, ne rencontrera qu’une seule fois\, et qui mène l’entretien en prenant son temps et sans préjugés ni a priori : la discussion clinique avec l’équipe d’accueil de l’institution et le public de professionnels qui assistent à la présentation n’a lieu qu’ensuite (et hors de la présence de l’enfant). \nL’enfant ou l’adolescent\, avec l’accord de ses parents s’il est mineur\, parle de ce qui est important pour lui\, de ce qui fait sa vie dans l’institution : ses camarades\, ses activités ; mais aussi de sa vie dans sa famille (ses parents ou sa famille d’accueil)\, de la façon dont il se situe par rapport aux autres et de la place que prennent les autres pour lui. Il peut aussi évoquer les moments traumatiques de son histoire\, ses actes\, ses désirs mais aussi ses cauchemars et ses difficultés.  \nCes rencontres\, protégées par le secret professionnel\, sont aussi l’occasion\, pour les membres de l’équipe qui suivent le jeune\, de l’écouter « hors contexte »\, autrement\, et parfois de donner un nouveau relief à la façon de travailler avec lui.  \nLa présentation est précédée par l’exposition du compte-rendu de la présentation précédente par un participant et d’une reprise par les enseignants des points théoriques mis en lumière lors de l’entretien. Ainsi sont mis en évidence les rapports entre la clinique et certains points de la théorie psychanalytique. \nL’atelier et la présentation clinique se déroulent de 10 h à 12 h et sont indissociables. \nSeul un petit nombre de participants pouvant être admis\, il sera tenu compte de l’ordre d’arrivée des inscriptions. \n 
URL:https://www.aleph-savoirs-et-clinique.org/event/presentation-clinique-ii-et-atelier-ii-clinique-de-ladolescent/2026-03-23/
LOCATION:I.M.Pro Le Saulchoir\, site de Bruyelle\, 42 chaussée de Tournai\, Antoing\, 7641\, Belgique
CATEGORIES:Atelier,Présentation clinique,Savoirs et Clinique
END:VEVENT
BEGIN:VEVENT
DTSTART;TZID=Europe/Helsinki:20260323T200000
DTEND;TZID=Europe/Helsinki:20260323T220000
DTSTAMP:20260425T232412
CREATED:20250725T111904Z
LAST-MODIFIED:20250725T111904Z
UID:10000627-1774296000-1774303200@www.aleph-savoirs-et-clinique.org
SUMMARY:Atelier à Toulouse\, Groupe de lecture\, Vonnick Guiavarc'h
DESCRIPTION:Jacques Lacan \nLe Séminaire\, Livre IV\, La relation d’objet (1956-1957) \n\n\n\n\nDes personnes en situation d’exil racontent dans des entretiens des parcours migratoires marqués par un sentiment de perte. Il peut s’agir d’un exil subi\, par exemple dans des situations de guerre ou de persécution\, d’un exil choisi en vue d’un avenir meilleur pour soi et ses enfants\, ou encore d’un exil vécu et rapporté par les générations précédentes. Quelques soient les modalités des exils\, l’histoire des sujets « exilés » témoigne d’un manque situé au-delà des pertes\, carences\, ou attentes déçues. \nEn nous appuyant sur la lecture du séminaire IV\, La relation d’objet\, nous interrogerons la clinique du sujet de l’exil dans son rapport à l’objet. Quelles relations entretiennent-ils? De quelle sorte d’objet s’agit-il dans la quête de l’objet perdu? Comment articuler la notion du manque d’objet avec les trois instances de l’imaginaire\, du réel et du symbolique? \n\n\n\n\nPour s’inscrire\, il faut contacter directement Vonnick Guiavarc’h :  \nvonnick.guiavarch@gmail.com
URL:https://www.aleph-savoirs-et-clinique.org/event/atelier-a-toulouse-groupe-de-lecture-vonnick-guiavarch/2026-03-23/
LOCATION:Cabinet de Vonnick Guiavarc’h\, 46 rue du 10 avril\, Toulouse\, 31000\, France
CATEGORIES:Atelier,Savoirs et Clinique
END:VEVENT
END:VCALENDAR