BEGIN:VCALENDAR
VERSION:2.0
PRODID:-//Aleph, Savoirs &amp; Clinique - Lille - ECPv6.15.20//NONSGML v1.0//EN
CALSCALE:GREGORIAN
METHOD:PUBLISH
X-WR-CALNAME:Aleph, Savoirs &amp; Clinique - Lille
X-ORIGINAL-URL:https://www.aleph-savoirs-et-clinique.org
X-WR-CALDESC:Évènements pour Aleph, Savoirs &amp; Clinique - Lille
REFRESH-INTERVAL;VALUE=DURATION:PT1H
X-Robots-Tag:noindex
X-PUBLISHED-TTL:PT1H
BEGIN:VTIMEZONE
TZID:Europe/Helsinki
BEGIN:DAYLIGHT
TZOFFSETFROM:+0200
TZOFFSETTO:+0300
TZNAME:EEST
DTSTART:20250330T010000
END:DAYLIGHT
BEGIN:STANDARD
TZOFFSETFROM:+0300
TZOFFSETTO:+0200
TZNAME:EET
DTSTART:20251026T010000
END:STANDARD
BEGIN:DAYLIGHT
TZOFFSETFROM:+0200
TZOFFSETTO:+0300
TZNAME:EEST
DTSTART:20260329T010000
END:DAYLIGHT
BEGIN:STANDARD
TZOFFSETFROM:+0300
TZOFFSETTO:+0200
TZNAME:EET
DTSTART:20261025T010000
END:STANDARD
BEGIN:DAYLIGHT
TZOFFSETFROM:+0200
TZOFFSETTO:+0300
TZNAME:EEST
DTSTART:20270328T010000
END:DAYLIGHT
BEGIN:STANDARD
TZOFFSETFROM:+0300
TZOFFSETTO:+0200
TZNAME:EET
DTSTART:20271031T010000
END:STANDARD
END:VTIMEZONE
BEGIN:VEVENT
DTSTART;TZID=Europe/Helsinki:20260422T200000
DTEND;TZID=Europe/Helsinki:20260422T223000
DTSTAMP:20260426T004715
CREATED:20250716T103448Z
LAST-MODIFIED:20250724T150221Z
UID:10000620-1776888000-1776897000@www.aleph-savoirs-et-clinique.org
SUMMARY:Atelier IX Psychanalyse et littérature
DESCRIPTION:Atelier animé par Claudine Biefnot\, Sibylle Guipaud \n« Je soutiens\, et je soutiendrai sans ambiguïté – et\, ce faisant\, je pense être dans la ligne de Freud – que les créations poétiques engendrent\, plus qu’elles ne les reflètent les créations psychologiques1. » La thèse de Lacan est fidèle à Freud dont la lecture des poèmes de Goethe l’a décidé à se lancer dans les études médicales. Lacan a souligné que Freud n’a jamais aussi bien élaboré ses théories que lorsqu’il a travaillé à partir des écrits de Schreber. Aussi la démarche de notre séminaire est de montrer que le texte fait avancer la pratique et les concepts psychanalytiques. Mais pourquoi faire une place à la littérature dans la formation de l’analyste ? On pourrait en effet questionner la nécessité pour un psychanalyste de s’intéresser aux grands écrivains car\, après tout\, faire une psychanalyse ce n’est pas réaliser une étude littéraire. Pourtant\, dans les deux pratiques\, l’art d’interpréter un poème – qu’il soit texte ou sujet – est au cœur du processus. La lecture par Lacan de deux grands écrivains du XXe siècle\, Marguerite Duras et James Joyce\, nous permettra d’explorer le champ de la psychanalyse appliquée à la littérature depuis son origine jusqu’à son actualité la plus brûlante. \n  \n\n\n\n\n1 Jacques Lacan\, Le Séminaire\, Livre VI\, Le Désir et son interprétation [1958-1959]\, Paris\, Éditions de La Martinière\, 2013\, p. 295-296. \n\n\n  \nEn présentiel et par visioconférence (Zoom) \n\n\n 
URL:https://www.aleph-savoirs-et-clinique.org/event/atelier-ix-psychanalyse-et-litterature/2026-04-22/
LOCATION:Mitwit Lille Grand Place\, 68 rue Saint Etienne\, Lille\, 59800\, France
CATEGORIES:Atelier,Savoirs et Clinique
END:VEVENT
BEGIN:VEVENT
DTSTART;TZID=Europe/Helsinki:20260422T203000
DTEND;TZID=Europe/Helsinki:20260422T223000
DTSTAMP:20260426T004715
CREATED:20250725T111517Z
LAST-MODIFIED:20250725T111517Z
UID:10000642-1776889800-1776897000@www.aleph-savoirs-et-clinique.org
SUMMARY:Atelier à Paris : psychanalyse et violence
DESCRIPTION:Atelier à Paris  \nPsychanalyse et violence \nVincent Le Corre et Thomas Chihaoui \nLa violence est une force aux confins de l’individuel\, du social et du politique\, qui peut nous déloger radicalement de nous-mêmes\, mais qui peut également être entendue comme étant au service de la vie. Richard Hellbrunn l’affirme dans son ouvrage Pathologie de la violence : « Il y a dans la violence\, dans n’importe quelle forme de violence\, un reste étrange qui échappe au pouvoir des mots.1 » Comment définir ce reste étrange qui se manifeste sous de multiples formes\, physique\, morale\, verbale\, sexuelle\, psychique ? \nMême si la violence n’est pas un concept psychanalytique à proprement parler\, elle peut être abordée par le biais de concepts ou notions comme la pulsion\, l’affect\, l’émotion\, l’émoi\, l’inhibition\, l’acte… Lacan distingue ainsi l’acting out du passage à l’acte et nous avertit « du pouvoir captivant des images2 » qui peut conduire au crime. Claude Balier distingue des fonctions et des degrés de symbolisation de l’agir violent à travers les notions de mise en acte et de recours à l’acte3. \nNous étudierons les phénomènes liés à la violence\, particulièrement à l’adolescence\, à partir de textes psychanalytiques (Freud\, Lacan\, Klein\,Winnicott\, Hellbrunn\, Dejours\, Balier\, etc.)\, mais aussi du cinéma et des jeux vidéo. Et nous nous appuierons sur le dispositif élaboré par le psychanalyste Richard Hellbrunn\, « la psychoboxe4 ». Divers intervenants seront invités à présenter leur expérience et à discuter avec les participants à l’atelier. \n  \n\n\n\n\n\n Richard Hellbrunn\, Pathologie de la violence\, pour une stratégie thérapeutique\, Éditions Réseaux\, 1982\, p.6\n Franz Kaltenbeck\, « L’”incompréhensible” : la psychanalyse face au crime »\, Nouvelle Revue de Psychosociologie\, n°20\, 2015.\nSous la direction de Claude Balier\, La violence en abyme\, PUF\, 2005.\nwww.psychoboxe.co\n\n\n\n  \nExclusivement par visioconférence (par Zoom) \nPour s’inscrire\, il faut contacter directement Vincent Le Corre : vincent_le_corre@hotmail.com \n\n\n\n\n\n\n\n\n\n 
URL:https://www.aleph-savoirs-et-clinique.org/event/atelier-a-paris-psychanalyse-et-violence/2026-04-22/
LOCATION:Visioconférence (zoom)
CATEGORIES:Atelier,Savoirs et Clinique
END:VEVENT
END:VCALENDAR