BEGIN:VCALENDAR
VERSION:2.0
PRODID:-//Aleph, Savoirs &amp; Clinique - Lille - ECPv6.15.20//NONSGML v1.0//EN
CALSCALE:GREGORIAN
METHOD:PUBLISH
X-ORIGINAL-URL:https://www.aleph-savoirs-et-clinique.org
X-WR-CALDESC:Évènements pour Aleph, Savoirs &amp; Clinique - Lille
REFRESH-INTERVAL;VALUE=DURATION:PT1H
X-Robots-Tag:noindex
X-PUBLISHED-TTL:PT1H
BEGIN:VTIMEZONE
TZID:Europe/Helsinki
BEGIN:DAYLIGHT
TZOFFSETFROM:+0200
TZOFFSETTO:+0300
TZNAME:EEST
DTSTART:20250330T010000
END:DAYLIGHT
BEGIN:STANDARD
TZOFFSETFROM:+0300
TZOFFSETTO:+0200
TZNAME:EET
DTSTART:20251026T010000
END:STANDARD
BEGIN:DAYLIGHT
TZOFFSETFROM:+0200
TZOFFSETTO:+0300
TZNAME:EEST
DTSTART:20260329T010000
END:DAYLIGHT
BEGIN:STANDARD
TZOFFSETFROM:+0300
TZOFFSETTO:+0200
TZNAME:EET
DTSTART:20261025T010000
END:STANDARD
BEGIN:DAYLIGHT
TZOFFSETFROM:+0200
TZOFFSETTO:+0300
TZNAME:EEST
DTSTART:20270328T010000
END:DAYLIGHT
BEGIN:STANDARD
TZOFFSETFROM:+0300
TZOFFSETTO:+0200
TZNAME:EET
DTSTART:20271031T010000
END:STANDARD
END:VTIMEZONE
BEGIN:VEVENT
DTSTART;TZID=Europe/Helsinki:20260427T200000
DTEND;TZID=Europe/Helsinki:20260427T220000
DTSTAMP:20260425T232528
CREATED:20250725T111904Z
LAST-MODIFIED:20250725T111904Z
UID:10000628-1777320000-1777327200@www.aleph-savoirs-et-clinique.org
SUMMARY:Atelier à Toulouse\, Groupe de lecture\, Vonnick Guiavarc'h
DESCRIPTION:Jacques Lacan \nLe Séminaire\, Livre IV\, La relation d’objet (1956-1957) \n\n\n\n\nDes personnes en situation d’exil racontent dans des entretiens des parcours migratoires marqués par un sentiment de perte. Il peut s’agir d’un exil subi\, par exemple dans des situations de guerre ou de persécution\, d’un exil choisi en vue d’un avenir meilleur pour soi et ses enfants\, ou encore d’un exil vécu et rapporté par les générations précédentes. Quelques soient les modalités des exils\, l’histoire des sujets « exilés » témoigne d’un manque situé au-delà des pertes\, carences\, ou attentes déçues. \nEn nous appuyant sur la lecture du séminaire IV\, La relation d’objet\, nous interrogerons la clinique du sujet de l’exil dans son rapport à l’objet. Quelles relations entretiennent-ils? De quelle sorte d’objet s’agit-il dans la quête de l’objet perdu? Comment articuler la notion du manque d’objet avec les trois instances de l’imaginaire\, du réel et du symbolique? \n\n\n\n\nPour s’inscrire\, il faut contacter directement Vonnick Guiavarc’h :  \nvonnick.guiavarch@gmail.com
URL:https://www.aleph-savoirs-et-clinique.org/event/atelier-a-toulouse-groupe-de-lecture-vonnick-guiavarch/2026-04-27/
LOCATION:Cabinet de Vonnick Guiavarc’h\, 46 rue du 10 avril\, Toulouse\, 31000\, France
CATEGORIES:Atelier,Savoirs et Clinique
END:VEVENT
BEGIN:VEVENT
DTSTART;TZID=Europe/Helsinki:20260430T204500
DTEND;TZID=Europe/Helsinki:20260430T223000
DTSTAMP:20260425T232528
CREATED:20250414T162452Z
LAST-MODIFIED:20250928T094837Z
UID:10000582-1777581900-1777588200@www.aleph-savoirs-et-clinique.org
SUMMARY:Atelier IV b Débuter avec Lacan\, le séminaire I\, Les écrits techniques de Freud (1953-1954)
DESCRIPTION:Atelier animé par Isabelle Baldet\, Frédéric Yvan \nComment aborder la lecture d’une œuvre aussi énigmatique que celle de Jacques Lacan ? Comment et dans quel ordre aborder ses nombreuses références\, psychanalytiques\, philosophiques\, littéraires ou scientifiques ? Y-a-t-il un ordre ? une méthode ? doit-on procéder comme Champollion pour déchiffrer par recoupement les séminaires et écrits de Lacan ?  \nDestiné à ceux qui souhaitent découvrir avec nous cette œuvre qui a révolutionné la psychanalyse après Freud\, nos ateliers procèdent avec une méthode simple : la lecture suivie en commun d’un texte de Lacan ; lecture linéaire ou composée qui s’attache à en expliciter précisément les enjeux. \nL’atelier\, divisé en deux groupes – limités chacun à une dizaine de participants – est conçu pour privilégier les questions et favoriser le dialogue et l’interaction.  \nL’atelier IV b\, sera consacré à l’étude des concepts clefs développés dans le séminaire I\, Les écrits techniques de Freud (1953-1954) : l’imaginaire\, le symbolique\, le stade du miroir\, l’appel et la demande\, la forclusion… Ces éléments permettent de poser les bases de l’enseignement de Lacan et de comprendre son abord novateur de la psychose. \nCet atelier s’adresse tout particulièrement aux personnes qui n’ont pas encore lu Lacan mais souhaitent se familiariser avec sa théorie.  \nDes repères bibliographiques précis seront donnés à chaque séance. \nUniquement en visioconférence (par Zoom)
URL:https://www.aleph-savoirs-et-clinique.org/event/atelier-iv-b-debuter-avec-lacan-le-seminaire-iii-les-psychoses-1955-56/2026-04-30/
LOCATION:Visioconférence (zoom)
CATEGORIES:Atelier,Savoirs et Clinique
END:VEVENT
END:VCALENDAR