BEGIN:VCALENDAR
VERSION:2.0
PRODID:-//Aleph, Savoirs &amp; Clinique - Lille - ECPv6.15.20//NONSGML v1.0//EN
CALSCALE:GREGORIAN
METHOD:PUBLISH
X-ORIGINAL-URL:https://www.aleph-savoirs-et-clinique.org
X-WR-CALDESC:Évènements pour Aleph, Savoirs &amp; Clinique - Lille
REFRESH-INTERVAL;VALUE=DURATION:PT1H
X-Robots-Tag:noindex
X-PUBLISHED-TTL:PT1H
BEGIN:VTIMEZONE
TZID:Europe/Helsinki
BEGIN:DAYLIGHT
TZOFFSETFROM:+0200
TZOFFSETTO:+0300
TZNAME:EEST
DTSTART:20250330T010000
END:DAYLIGHT
BEGIN:STANDARD
TZOFFSETFROM:+0300
TZOFFSETTO:+0200
TZNAME:EET
DTSTART:20251026T010000
END:STANDARD
BEGIN:DAYLIGHT
TZOFFSETFROM:+0200
TZOFFSETTO:+0300
TZNAME:EEST
DTSTART:20260329T010000
END:DAYLIGHT
BEGIN:STANDARD
TZOFFSETFROM:+0300
TZOFFSETTO:+0200
TZNAME:EET
DTSTART:20261025T010000
END:STANDARD
BEGIN:DAYLIGHT
TZOFFSETFROM:+0200
TZOFFSETTO:+0300
TZNAME:EEST
DTSTART:20270328T010000
END:DAYLIGHT
BEGIN:STANDARD
TZOFFSETFROM:+0300
TZOFFSETTO:+0200
TZNAME:EET
DTSTART:20271031T010000
END:STANDARD
END:VTIMEZONE
BEGIN:VEVENT
DTSTART;TZID=Europe/Helsinki:20260617T210000
DTEND;TZID=Europe/Helsinki:20260617T224500
DTSTAMP:20260426T005514
CREATED:20240728T202958Z
LAST-MODIFIED:20250716T091618Z
UID:10000597-1781730000-1781736300@www.aleph-savoirs-et-clinique.org
SUMMARY:Atelier V Suicide et homicide
DESCRIPTION:Suicide et homicide\, Le passage à l’acte\, un moment d’exil pour le sujet \nAtelier animé par Lucile Charliac\, Dr Brigitte Lemonnier\, Dr Geneviève Trichet\, Monique Vanneufville \n\n\n\n\nJe me suis poignardé\, comment est-ce possible\, moi qui ne peux pas voir une goutte de sang ? » Une telle stupéfaction après un acte suicidaire n’est pas rare. \nDes paroles témoignant d’une semblable étrangeté peuvent aussi être entendues à la suite d’un passage à l’acte meurtrier. La sidération du sujet peut aller jusqu’au rejet d’en avoir été l’auteur ou l’autrice. Ce rejet n’est pourtant nullement une stratégie pour se disculper. Il ne constitue pas davantage à proprement parler un déni : « je me suis poignardé »\, reconnaît bien ce sujet qui souligne en même temps qu’il n’a rien à en dire. \nAlors\, comment une telle dissociation\, entre le sujet qui découvre son acte et le sujet préexistant à l’acte\, est-elle possible ? \nLacan a éclairé cette étrangeté ressentie dans l’après-coup du passage à l’acte en mettant l’accent sur le mutisme de l’acte. L’acte vient à la place d’un dire du sujet ; il met hors-jeu le sujet parlant\, d’où sa difficulté à se reconnaître ensuite dans l’acte. \nAlors\, y a-t-il quand même un agent de l’acte et quel est-il ? Lacan le nomme d’un concept qu’il a inventé\, l’objet petit a. \nDu sujet\, exilé de la scène du crime ou du suicide\, à l’objet a qui commande l’acte\, nous étudierons ce que chacun de ces deux termes\, sujet et objet a\, désignent chez Lacan. Cette étude sera étayée sur la référence à des cas cliniques permettant d’éclairer la place et le rôle de chacun d’eux. \n\n\n\n\n\n\n\n\nUniquement par visioconférence (Zoom)
URL:https://www.aleph-savoirs-et-clinique.org/event/atelier-v-suicide-et-homicide/2026-06-17/
LOCATION:Visioconférence (zoom)
CATEGORIES:Atelier,Savoirs et Clinique
END:VEVENT
END:VCALENDAR