BEGIN:VCALENDAR
VERSION:2.0
PRODID:-//Aleph, Savoirs &amp; Clinique - Lille - ECPv6.15.20//NONSGML v1.0//EN
CALSCALE:GREGORIAN
METHOD:PUBLISH
X-ORIGINAL-URL:https://www.aleph-savoirs-et-clinique.org
X-WR-CALDESC:Évènements pour Aleph, Savoirs &amp; Clinique - Lille
REFRESH-INTERVAL;VALUE=DURATION:PT1H
X-Robots-Tag:noindex
X-PUBLISHED-TTL:PT1H
BEGIN:VTIMEZONE
TZID:Europe/Helsinki
BEGIN:DAYLIGHT
TZOFFSETFROM:+0200
TZOFFSETTO:+0300
TZNAME:EEST
DTSTART:20240331T010000
END:DAYLIGHT
BEGIN:STANDARD
TZOFFSETFROM:+0300
TZOFFSETTO:+0200
TZNAME:EET
DTSTART:20241027T010000
END:STANDARD
BEGIN:DAYLIGHT
TZOFFSETFROM:+0200
TZOFFSETTO:+0300
TZNAME:EEST
DTSTART:20250330T010000
END:DAYLIGHT
BEGIN:STANDARD
TZOFFSETFROM:+0300
TZOFFSETTO:+0200
TZNAME:EET
DTSTART:20251026T010000
END:STANDARD
BEGIN:DAYLIGHT
TZOFFSETFROM:+0200
TZOFFSETTO:+0300
TZNAME:EEST
DTSTART:20260329T010000
END:DAYLIGHT
BEGIN:STANDARD
TZOFFSETFROM:+0300
TZOFFSETTO:+0200
TZNAME:EET
DTSTART:20261025T010000
END:STANDARD
BEGIN:DAYLIGHT
TZOFFSETFROM:+0200
TZOFFSETTO:+0300
TZNAME:EEST
DTSTART:20270328T010000
END:DAYLIGHT
BEGIN:STANDARD
TZOFFSETFROM:+0300
TZOFFSETTO:+0200
TZNAME:EET
DTSTART:20271031T010000
END:STANDARD
END:VTIMEZONE
BEGIN:VEVENT
DTSTART;TZID=Europe/Helsinki:20260323T200000
DTEND;TZID=Europe/Helsinki:20260323T220000
DTSTAMP:20260425T171319
CREATED:20250725T111904Z
LAST-MODIFIED:20250725T111904Z
UID:10000627-1774296000-1774303200@www.aleph-savoirs-et-clinique.org
SUMMARY:Atelier à Toulouse\, Groupe de lecture\, Vonnick Guiavarc'h
DESCRIPTION:Jacques Lacan \nLe Séminaire\, Livre IV\, La relation d’objet (1956-1957) \n\n\n\n\nDes personnes en situation d’exil racontent dans des entretiens des parcours migratoires marqués par un sentiment de perte. Il peut s’agir d’un exil subi\, par exemple dans des situations de guerre ou de persécution\, d’un exil choisi en vue d’un avenir meilleur pour soi et ses enfants\, ou encore d’un exil vécu et rapporté par les générations précédentes. Quelques soient les modalités des exils\, l’histoire des sujets « exilés » témoigne d’un manque situé au-delà des pertes\, carences\, ou attentes déçues. \nEn nous appuyant sur la lecture du séminaire IV\, La relation d’objet\, nous interrogerons la clinique du sujet de l’exil dans son rapport à l’objet. Quelles relations entretiennent-ils? De quelle sorte d’objet s’agit-il dans la quête de l’objet perdu? Comment articuler la notion du manque d’objet avec les trois instances de l’imaginaire\, du réel et du symbolique? \n\n\n\n\nPour s’inscrire\, il faut contacter directement Vonnick Guiavarc’h :  \nvonnick.guiavarch@gmail.com
URL:https://www.aleph-savoirs-et-clinique.org/event/atelier-a-toulouse-groupe-de-lecture-vonnick-guiavarch/2026-03-23/
LOCATION:Cabinet de Vonnick Guiavarc’h\, 46 rue du 10 avril\, Toulouse\, 31000\, France
CATEGORIES:Atelier,Savoirs et Clinique
END:VEVENT
BEGIN:VEVENT
DTSTART;TZID=Europe/Helsinki:20260216T200000
DTEND;TZID=Europe/Helsinki:20260216T220000
DTSTAMP:20260425T171319
CREATED:20250725T111904Z
LAST-MODIFIED:20250725T111904Z
UID:10000626-1771272000-1771279200@www.aleph-savoirs-et-clinique.org
SUMMARY:Atelier à Toulouse\, Groupe de lecture\, Vonnick Guiavarc'h
DESCRIPTION:Jacques Lacan \nLe Séminaire\, Livre IV\, La relation d’objet (1956-1957) \n\n\n\n\nDes personnes en situation d’exil racontent dans des entretiens des parcours migratoires marqués par un sentiment de perte. Il peut s’agir d’un exil subi\, par exemple dans des situations de guerre ou de persécution\, d’un exil choisi en vue d’un avenir meilleur pour soi et ses enfants\, ou encore d’un exil vécu et rapporté par les générations précédentes. Quelques soient les modalités des exils\, l’histoire des sujets « exilés » témoigne d’un manque situé au-delà des pertes\, carences\, ou attentes déçues. \nEn nous appuyant sur la lecture du séminaire IV\, La relation d’objet\, nous interrogerons la clinique du sujet de l’exil dans son rapport à l’objet. Quelles relations entretiennent-ils? De quelle sorte d’objet s’agit-il dans la quête de l’objet perdu? Comment articuler la notion du manque d’objet avec les trois instances de l’imaginaire\, du réel et du symbolique? \n\n\n\n\nPour s’inscrire\, il faut contacter directement Vonnick Guiavarc’h :  \nvonnick.guiavarch@gmail.com
URL:https://www.aleph-savoirs-et-clinique.org/event/atelier-a-toulouse-groupe-de-lecture-vonnick-guiavarch/2026-02-16/
LOCATION:Cabinet de Vonnick Guiavarc’h\, 46 rue du 10 avril\, Toulouse\, 31000\, France
CATEGORIES:Atelier,Savoirs et Clinique
END:VEVENT
BEGIN:VEVENT
DTSTART;TZID=Europe/Helsinki:20260119T200000
DTEND;TZID=Europe/Helsinki:20260119T220000
DTSTAMP:20260425T171319
CREATED:20250725T111904Z
LAST-MODIFIED:20250725T111904Z
UID:10000653-1768852800-1768860000@www.aleph-savoirs-et-clinique.org
SUMMARY:Atelier à Toulouse\, Groupe de lecture\, Vonnick Guiavarc'h
DESCRIPTION:Jacques Lacan \nLe Séminaire\, Livre IV\, La relation d’objet (1956-1957) \n\n\n\n\nDes personnes en situation d’exil racontent dans des entretiens des parcours migratoires marqués par un sentiment de perte. Il peut s’agir d’un exil subi\, par exemple dans des situations de guerre ou de persécution\, d’un exil choisi en vue d’un avenir meilleur pour soi et ses enfants\, ou encore d’un exil vécu et rapporté par les générations précédentes. Quelques soient les modalités des exils\, l’histoire des sujets « exilés » témoigne d’un manque situé au-delà des pertes\, carences\, ou attentes déçues. \nEn nous appuyant sur la lecture du séminaire IV\, La relation d’objet\, nous interrogerons la clinique du sujet de l’exil dans son rapport à l’objet. Quelles relations entretiennent-ils? De quelle sorte d’objet s’agit-il dans la quête de l’objet perdu? Comment articuler la notion du manque d’objet avec les trois instances de l’imaginaire\, du réel et du symbolique? \n\n\n\n\nPour s’inscrire\, il faut contacter directement Vonnick Guiavarc’h :  \nvonnick.guiavarch@gmail.com
URL:https://www.aleph-savoirs-et-clinique.org/event/atelier-a-toulouse-groupe-de-lecture-vonnick-guiavarch/2026-01-19/
LOCATION:Cabinet de Vonnick Guiavarc’h\, 46 rue du 10 avril\, Toulouse\, 31000\, France
CATEGORIES:Atelier,Savoirs et Clinique
END:VEVENT
BEGIN:VEVENT
DTSTART;TZID=Europe/Helsinki:20251124T200000
DTEND;TZID=Europe/Helsinki:20251124T220000
DTSTAMP:20260425T171319
CREATED:20250725T111904Z
LAST-MODIFIED:20250725T111904Z
UID:10000624-1764014400-1764021600@www.aleph-savoirs-et-clinique.org
SUMMARY:Atelier à Toulouse\, Groupe de lecture\, Vonnick Guiavarc'h
DESCRIPTION:Jacques Lacan \nLe Séminaire\, Livre IV\, La relation d’objet (1956-1957) \n\n\n\n\nDes personnes en situation d’exil racontent dans des entretiens des parcours migratoires marqués par un sentiment de perte. Il peut s’agir d’un exil subi\, par exemple dans des situations de guerre ou de persécution\, d’un exil choisi en vue d’un avenir meilleur pour soi et ses enfants\, ou encore d’un exil vécu et rapporté par les générations précédentes. Quelques soient les modalités des exils\, l’histoire des sujets « exilés » témoigne d’un manque situé au-delà des pertes\, carences\, ou attentes déçues. \nEn nous appuyant sur la lecture du séminaire IV\, La relation d’objet\, nous interrogerons la clinique du sujet de l’exil dans son rapport à l’objet. Quelles relations entretiennent-ils? De quelle sorte d’objet s’agit-il dans la quête de l’objet perdu? Comment articuler la notion du manque d’objet avec les trois instances de l’imaginaire\, du réel et du symbolique? \n\n\n\n\nPour s’inscrire\, il faut contacter directement Vonnick Guiavarc’h :  \nvonnick.guiavarch@gmail.com
URL:https://www.aleph-savoirs-et-clinique.org/event/atelier-a-toulouse-groupe-de-lecture-vonnick-guiavarch/2025-11-24/
LOCATION:Cabinet de Vonnick Guiavarc’h\, 46 rue du 10 avril\, Toulouse\, 31000\, France
CATEGORIES:Atelier,Savoirs et Clinique
END:VEVENT
BEGIN:VEVENT
DTSTART;TZID=Europe/Helsinki:20251020T200000
DTEND;TZID=Europe/Helsinki:20251020T220000
DTSTAMP:20260425T171319
CREATED:20250725T111904Z
LAST-MODIFIED:20250725T111904Z
UID:10000623-1760990400-1760997600@www.aleph-savoirs-et-clinique.org
SUMMARY:Atelier à Toulouse\, Groupe de lecture\, Vonnick Guiavarc'h
DESCRIPTION:Jacques Lacan \nLe Séminaire\, Livre IV\, La relation d’objet (1956-1957) \n\n\n\n\nDes personnes en situation d’exil racontent dans des entretiens des parcours migratoires marqués par un sentiment de perte. Il peut s’agir d’un exil subi\, par exemple dans des situations de guerre ou de persécution\, d’un exil choisi en vue d’un avenir meilleur pour soi et ses enfants\, ou encore d’un exil vécu et rapporté par les générations précédentes. Quelques soient les modalités des exils\, l’histoire des sujets « exilés » témoigne d’un manque situé au-delà des pertes\, carences\, ou attentes déçues. \nEn nous appuyant sur la lecture du séminaire IV\, La relation d’objet\, nous interrogerons la clinique du sujet de l’exil dans son rapport à l’objet. Quelles relations entretiennent-ils? De quelle sorte d’objet s’agit-il dans la quête de l’objet perdu? Comment articuler la notion du manque d’objet avec les trois instances de l’imaginaire\, du réel et du symbolique? \n\n\n\n\nPour s’inscrire\, il faut contacter directement Vonnick Guiavarc’h :  \nvonnick.guiavarch@gmail.com
URL:https://www.aleph-savoirs-et-clinique.org/event/atelier-a-toulouse-groupe-de-lecture-vonnick-guiavarch/2025-10-20/
LOCATION:Cabinet de Vonnick Guiavarc’h\, 46 rue du 10 avril\, Toulouse\, 31000\, France
CATEGORIES:Atelier,Savoirs et Clinique
END:VEVENT
BEGIN:VEVENT
DTSTART;TZID=Europe/Helsinki:20250922T200000
DTEND;TZID=Europe/Helsinki:20250922T220000
DTSTAMP:20260425T171319
CREATED:20250725T111904Z
LAST-MODIFIED:20250725T111904Z
UID:10000622-1758571200-1758578400@www.aleph-savoirs-et-clinique.org
SUMMARY:Atelier à Toulouse\, Groupe de lecture\, Vonnick Guiavarc'h
DESCRIPTION:Jacques Lacan \nLe Séminaire\, Livre IV\, La relation d’objet (1956-1957) \n\n\n\n\nDes personnes en situation d’exil racontent dans des entretiens des parcours migratoires marqués par un sentiment de perte. Il peut s’agir d’un exil subi\, par exemple dans des situations de guerre ou de persécution\, d’un exil choisi en vue d’un avenir meilleur pour soi et ses enfants\, ou encore d’un exil vécu et rapporté par les générations précédentes. Quelques soient les modalités des exils\, l’histoire des sujets « exilés » témoigne d’un manque situé au-delà des pertes\, carences\, ou attentes déçues. \nEn nous appuyant sur la lecture du séminaire IV\, La relation d’objet\, nous interrogerons la clinique du sujet de l’exil dans son rapport à l’objet. Quelles relations entretiennent-ils? De quelle sorte d’objet s’agit-il dans la quête de l’objet perdu? Comment articuler la notion du manque d’objet avec les trois instances de l’imaginaire\, du réel et du symbolique? \n\n\n\n\nPour s’inscrire\, il faut contacter directement Vonnick Guiavarc’h :  \nvonnick.guiavarch@gmail.com
URL:https://www.aleph-savoirs-et-clinique.org/event/atelier-a-toulouse-groupe-de-lecture-vonnick-guiavarch/2025-09-22/
LOCATION:Cabinet de Vonnick Guiavarc’h\, 46 rue du 10 avril\, Toulouse\, 31000\, France
CATEGORIES:Atelier,Savoirs et Clinique
END:VEVENT
BEGIN:VEVENT
DTSTART;TZID=Europe/Helsinki:20250611T200000
DTEND;TZID=Europe/Helsinki:20250611T220000
DTSTAMP:20260425T171319
CREATED:20250725T111904Z
LAST-MODIFIED:20250725T111904Z
UID:10000328-1749672000-1749679200@www.aleph-savoirs-et-clinique.org
SUMMARY:Atelier à Toulouse\, Groupe de lecture\, Vonnick Guiavarc'h
DESCRIPTION:Jacques Lacan \nLe Séminaire\, Livre IV\, La relation d’objet (1956-1957) \n\n\n\n\nDes personnes en situation d’exil racontent dans des entretiens des parcours migratoires marqués par un sentiment de perte. Il peut s’agir d’un exil subi\, par exemple dans des situations de guerre ou de persécution\, d’un exil choisi en vue d’un avenir meilleur pour soi et ses enfants\, ou encore d’un exil vécu et rapporté par les générations précédentes. Quelques soient les modalités des exils\, l’histoire des sujets « exilés » témoigne d’un manque situé au-delà des pertes\, carences\, ou attentes déçues. \nEn nous appuyant sur la lecture du séminaire IV\, La relation d’objet\, nous interrogerons la clinique du sujet de l’exil dans son rapport à l’objet. Quelles relations entretiennent-ils? De quelle sorte d’objet s’agit-il dans la quête de l’objet perdu? Comment articuler la notion du manque d’objet avec les trois instances de l’imaginaire\, du réel et du symbolique? \n\n\n\n\nPour s’inscrire\, il faut contacter directement Vonnick Guiavarc’h :  \nvonnick.guiavarch@gmail.com
URL:https://www.aleph-savoirs-et-clinique.org/event/atelier-a-toulouse-groupe-de-lecture-vonnick-guiavarch/2025-06-11/
LOCATION:Cabinet de Vonnick Guiavarc’h\, 46 rue du 10 avril\, Toulouse\, 31000\, France
CATEGORIES:Atelier,Savoirs et Clinique
END:VEVENT
BEGIN:VEVENT
DTSTART;TZID=Europe/Helsinki:20250521T200000
DTEND;TZID=Europe/Helsinki:20250521T220000
DTSTAMP:20260425T171319
CREATED:20250725T111904Z
LAST-MODIFIED:20250725T111904Z
UID:10000327-1747857600-1747864800@www.aleph-savoirs-et-clinique.org
SUMMARY:Atelier à Toulouse\, Groupe de lecture\, Vonnick Guiavarc'h
DESCRIPTION:Jacques Lacan \nLe Séminaire\, Livre IV\, La relation d’objet (1956-1957) \n\n\n\n\nDes personnes en situation d’exil racontent dans des entretiens des parcours migratoires marqués par un sentiment de perte. Il peut s’agir d’un exil subi\, par exemple dans des situations de guerre ou de persécution\, d’un exil choisi en vue d’un avenir meilleur pour soi et ses enfants\, ou encore d’un exil vécu et rapporté par les générations précédentes. Quelques soient les modalités des exils\, l’histoire des sujets « exilés » témoigne d’un manque situé au-delà des pertes\, carences\, ou attentes déçues. \nEn nous appuyant sur la lecture du séminaire IV\, La relation d’objet\, nous interrogerons la clinique du sujet de l’exil dans son rapport à l’objet. Quelles relations entretiennent-ils? De quelle sorte d’objet s’agit-il dans la quête de l’objet perdu? Comment articuler la notion du manque d’objet avec les trois instances de l’imaginaire\, du réel et du symbolique? \n\n\n\n\nPour s’inscrire\, il faut contacter directement Vonnick Guiavarc’h :  \nvonnick.guiavarch@gmail.com
URL:https://www.aleph-savoirs-et-clinique.org/event/atelier-a-toulouse-groupe-de-lecture-vonnick-guiavarch/2025-05-21/
LOCATION:Cabinet de Vonnick Guiavarc’h\, 46 rue du 10 avril\, Toulouse\, 31000\, France
CATEGORIES:Atelier,Savoirs et Clinique
END:VEVENT
BEGIN:VEVENT
DTSTART;TZID=Europe/Helsinki:20250416T200000
DTEND;TZID=Europe/Helsinki:20250416T220000
DTSTAMP:20260425T171319
CREATED:20250725T111904Z
LAST-MODIFIED:20250725T111904Z
UID:10000326-1744833600-1744840800@www.aleph-savoirs-et-clinique.org
SUMMARY:Atelier à Toulouse\, Groupe de lecture\, Vonnick Guiavarc'h
DESCRIPTION:Jacques Lacan \nLe Séminaire\, Livre IV\, La relation d’objet (1956-1957) \n\n\n\n\nDes personnes en situation d’exil racontent dans des entretiens des parcours migratoires marqués par un sentiment de perte. Il peut s’agir d’un exil subi\, par exemple dans des situations de guerre ou de persécution\, d’un exil choisi en vue d’un avenir meilleur pour soi et ses enfants\, ou encore d’un exil vécu et rapporté par les générations précédentes. Quelques soient les modalités des exils\, l’histoire des sujets « exilés » témoigne d’un manque situé au-delà des pertes\, carences\, ou attentes déçues. \nEn nous appuyant sur la lecture du séminaire IV\, La relation d’objet\, nous interrogerons la clinique du sujet de l’exil dans son rapport à l’objet. Quelles relations entretiennent-ils? De quelle sorte d’objet s’agit-il dans la quête de l’objet perdu? Comment articuler la notion du manque d’objet avec les trois instances de l’imaginaire\, du réel et du symbolique? \n\n\n\n\nPour s’inscrire\, il faut contacter directement Vonnick Guiavarc’h :  \nvonnick.guiavarch@gmail.com
URL:https://www.aleph-savoirs-et-clinique.org/event/atelier-a-toulouse-groupe-de-lecture-vonnick-guiavarch/2025-04-16/
LOCATION:Cabinet de Vonnick Guiavarc’h\, 46 rue du 10 avril\, Toulouse\, 31000\, France
CATEGORIES:Atelier,Savoirs et Clinique
END:VEVENT
END:VCALENDAR