BEGIN:VCALENDAR
VERSION:2.0
PRODID:-//Aleph, Savoirs &amp; Clinique - Lille - ECPv6.15.20//NONSGML v1.0//EN
CALSCALE:GREGORIAN
METHOD:PUBLISH
X-ORIGINAL-URL:https://www.aleph-savoirs-et-clinique.org
X-WR-CALDESC:Évènements pour Aleph, Savoirs &amp; Clinique - Lille
REFRESH-INTERVAL;VALUE=DURATION:PT1H
X-Robots-Tag:noindex
X-PUBLISHED-TTL:PT1H
BEGIN:VTIMEZONE
TZID:Europe/Helsinki
BEGIN:DAYLIGHT
TZOFFSETFROM:+0200
TZOFFSETTO:+0300
TZNAME:EEST
DTSTART:20250330T010000
END:DAYLIGHT
BEGIN:STANDARD
TZOFFSETFROM:+0300
TZOFFSETTO:+0200
TZNAME:EET
DTSTART:20251026T010000
END:STANDARD
BEGIN:DAYLIGHT
TZOFFSETFROM:+0200
TZOFFSETTO:+0300
TZNAME:EEST
DTSTART:20260329T010000
END:DAYLIGHT
BEGIN:STANDARD
TZOFFSETFROM:+0300
TZOFFSETTO:+0200
TZNAME:EET
DTSTART:20261025T010000
END:STANDARD
BEGIN:DAYLIGHT
TZOFFSETFROM:+0200
TZOFFSETTO:+0300
TZNAME:EEST
DTSTART:20270328T010000
END:DAYLIGHT
BEGIN:STANDARD
TZOFFSETFROM:+0300
TZOFFSETTO:+0200
TZNAME:EET
DTSTART:20271031T010000
END:STANDARD
END:VTIMEZONE
BEGIN:VEVENT
DTSTART;TZID=Europe/Helsinki:20260511T203000
DTEND;TZID=Europe/Helsinki:20260511T223000
DTSTAMP:20260425T171209
CREATED:20250330T172604Z
LAST-MODIFIED:20250716T093803Z
UID:10000608-1778531400-1778538600@www.aleph-savoirs-et-clinique.org
SUMMARY:Les soirées cinéma : Paris
DESCRIPTION:CINÉ-CRIME : TRAHISONS\nanimé par Geneviève Morel \nen collaboration avec la revue Savoirs et clinique (érès) \n\n\n\nDe nombreux films mettent en scène les conséquences criminelles d’une trahison. \nLa projection sera suivie d’une présentation par Geneviève Morel et d’un débat avec la salle. Le choix du film sera précisé chaque fois sur le site d’Aleph et sur celui du cinéma. \nAu cinéma Les 3 Luxembourg\, 67 rue Monsieur-le-Prince\, Paris 6e \nÀ 20 h 30\, les lundis 15 septembre\, 17 novembre 2025\, 12 janvier\, 9 mars et 11 mai 2026. \nhttps : //www.lestroisluxembourg.com
URL:https://www.aleph-savoirs-et-clinique.org/event/les-soirees-cinema-paris-2-2/2026-05-11/
LOCATION:Cinéma Les 3 Luxembourg\, 67\, rue Monsieur-le-Prince\, Paris\, 75006\, France
CATEGORIES:Cinéma,Savoirs et Clinique
END:VEVENT
BEGIN:VEVENT
DTSTART;TZID=Europe/Helsinki:20260511T203000
DTEND;TZID=Europe/Helsinki:20260511T230000
DTSTAMP:20260425T171209
CREATED:20251031T151934Z
LAST-MODIFIED:20260226T202915Z
UID:10000881-1778531400-1778540400@www.aleph-savoirs-et-clinique.org
SUMMARY:Les soirées cinéma : Paris
DESCRIPTION:CINÉ-CRIME : TRAHISONS\nanimé par Geneviève Morel \nen collaboration avec la revue Savoirs et clinique (érès) \n\n\n\nDe nombreux films mettent en scène les conséquences criminelles d’une trahison. \nLa projection sera suivie d’une présentation par Geneviève Morel et d’un débat avec la salle. Le choix du film sera précisé chaque fois sur le site d’Aleph et sur celui du cinéma. \nAu cinéma Les 3 Luxembourg\, 67 rue Monsieur-le-Prince\, Paris 6e \nLe 9 mars 2026 à 20h30 \nLES AMANTS SACRIFIÉS de Kiyoshi Kurosawa (Ja\, 2021) \n \n  \nÀ 20 h 30\, les lundis 15 septembre\, 17 novembre 2025\, 12 janvier\, 9 mars et 11 mai 2026. \nhttps : //www.lestroisluxembourg.com \n 
URL:https://www.aleph-savoirs-et-clinique.org/event/les-soirees-cinema-paris-2-2-2/2026-05-11/
LOCATION:Cinéma Les 3 Luxembourg\, 67\, rue Monsieur-le-Prince\, Paris\, 75006\, France
CATEGORIES:Cinéma,Savoirs et Clinique
END:VEVENT
END:VCALENDAR